BEGIN:VCALENDAR
VERSION:2.0
PRODID:-//ChamberMaster//Event Calendar 2.0//EN
METHOD:PUBLISH
X-PUBLISHED-TTL:P3D
REFRESH-INTERVAL:P3D
CALSCALE:GREGORIAN
BEGIN:VEVENT
DTSTART:20260508T160000Z
DTEND:20260508T200000Z
X-MICROSOFT-CDO-ALLDAYEVENT:FALSE
SUMMARY:CPR/First Aid/AED Class
DESCRIPTION:The first aid/CPR/AED course is taught based on the Health and Safety Institute guidelines for adults\, children\, and infants to meet or exceed occupational first aid certification. The goal of the class is for participants to gain or improve knowledge and skill proficiency in first aid\, conventional Cardiopulmonary Resuscitation (CPR) and Automated External Defibrillator (AED). Skills practice include recovery position\, conventional CPR/AED\, controlling severe life-threatening external bleeding\, and other medical emergencies that may occur in the workplace or home to prevent needless disabling injuries\, illnesses\, and death. The course is 4-hours in length and digital certificates are issued upon successful completion. Certification is valid for two years. CEUs may be offered for specific programs/industries.
X-ALT-DESC;FMTTYPE=text/html:<span style="color: rgb(84\, 84\, 86)\; font-family: Lato\, sans-serif\; font-size: 17px\; background-color: rgb(255\, 255\, 255)\;">The first aid/CPR/AED course is taught based on the Health and Safety Institute guidelines for adults\, children\, and infants to meet or exceed occupational first aid certification. The goal of the class is for participants to gain or improve knowledge and skill proficiency in first aid\, conventional Cardiopulmonary Resuscitation (CPR) and Automated External Defibrillator (AED). Skills practice include recovery position\, conventional CPR/AED\, controlling severe life-threatening external bleeding\, and other medical emergencies that may occur in the workplace or home to prevent needless disabling injuries\, illnesses\, and death. The course is 4-hours in length and digital certificates are issued upon successful completion. Certification is valid for two years. CEUs may be offered for specific programs/industries.</span>
LOCATION:1211 State Ave NE\, Olympia\, WA 98506
UID:e.9585.7385
SEQUENCE:3
DTSTAMP:20260422T204330Z
URL:https://business.omb.org/events/details/cpr-first-aid-aed-class-7385
END:VEVENT

END:VCALENDAR
