BEGIN:VCALENDAR
VERSION:2.0
PRODID:-//ChamberMaster//Event Calendar 2.0//EN
METHOD:PUBLISH
X-PUBLISHED-TTL:P3D
REFRESH-INTERVAL:P3D
CALSCALE:GREGORIAN
BEGIN:VEVENT
DTSTART:20260505T220000Z
DTEND:20260506T000000Z
X-MICROSOFT-CDO-ALLDAYEVENT:FALSE
SUMMARY:OMBEF Auction Committee Meeting / Decorating Party
DESCRIPTION:
X-ALT-DESC;FMTTYPE=text/html:
LOCATION:OMB 1211 State Ave NE Olympia\, WA 98506
UID:e.9585.7386
SEQUENCE:3
DTSTAMP:20260424T195859Z
URL:https://business.omb.org/events/details/ombef-auction-committee-meeting-decorating-party-7386
END:VEVENT

END:VCALENDAR
